BEGIN:VCALENDAR
VERSION:2.0
PRODID:-//St Albans Diocesan Evangelical Fellowship - ECPv6.15.20//NONSGML v1.0//EN
CALSCALE:GREGORIAN
METHOD:PUBLISH
X-ORIGINAL-URL:https://stalbansdef.org.uk
X-WR-CALDESC:Events for St Albans Diocesan Evangelical Fellowship
REFRESH-INTERVAL;VALUE=DURATION:PT1H
X-Robots-Tag:noindex
X-PUBLISHED-TTL:PT1H
BEGIN:VTIMEZONE
TZID:Europe/London
BEGIN:DAYLIGHT
TZOFFSETFROM:+0000
TZOFFSETTO:+0100
TZNAME:BST
DTSTART:20250330T010000
END:DAYLIGHT
BEGIN:STANDARD
TZOFFSETFROM:+0100
TZOFFSETTO:+0000
TZNAME:GMT
DTSTART:20251026T010000
END:STANDARD
BEGIN:DAYLIGHT
TZOFFSETFROM:+0000
TZOFFSETTO:+0100
TZNAME:BST
DTSTART:20260329T010000
END:DAYLIGHT
BEGIN:STANDARD
TZOFFSETFROM:+0100
TZOFFSETTO:+0000
TZNAME:GMT
DTSTART:20261025T010000
END:STANDARD
BEGIN:DAYLIGHT
TZOFFSETFROM:+0000
TZOFFSETTO:+0100
TZNAME:BST
DTSTART:20270328T010000
END:DAYLIGHT
BEGIN:STANDARD
TZOFFSETFROM:+0100
TZOFFSETTO:+0000
TZNAME:GMT
DTSTART:20271031T010000
END:STANDARD
END:VTIMEZONE
BEGIN:VEVENT
DTSTART;TZID=Europe/London:20260401T110000
DTEND;TZID=Europe/London:20260401T140000
DTSTAMP:20260420T053949
CREATED:20250924T220955Z
LAST-MODIFIED:20250924T221026Z
UID:5475-1775041200-1775052000@stalbansdef.org.uk
SUMMARY:Celebration of Ministry
DESCRIPTION:A gathering for DEF clergy to reaffirm their ordination vows and for all DEF members to celebrate and rededicate themselves to their diverse ministries. \nWe will worship together\, then share lunch (bring your own) to deepen our fellowship.
URL:https://stalbansdef.org.uk/event/celebration-of-ministry/
LOCATION:St Francis Luton\, St. Francis Church\, Carteret Rd\, Luton\, LU2 9JZ\, United Kingdom
CATEGORIES:Compelled to Resist
END:VEVENT
END:VCALENDAR