BEGIN:VCALENDAR
VERSION:2.0
PRODID:-//St Albans Diocesan Evangelical Fellowship - ECPv6.15.20//NONSGML v1.0//EN
CALSCALE:GREGORIAN
METHOD:PUBLISH
X-WR-CALNAME:St Albans Diocesan Evangelical Fellowship
X-ORIGINAL-URL:https://stalbansdef.org.uk
X-WR-CALDESC:Events for St Albans Diocesan Evangelical Fellowship
REFRESH-INTERVAL;VALUE=DURATION:PT1H
X-Robots-Tag:noindex
X-PUBLISHED-TTL:PT1H
BEGIN:VTIMEZONE
TZID:Europe/London
BEGIN:DAYLIGHT
TZOFFSETFROM:+0000
TZOFFSETTO:+0100
TZNAME:BST
DTSTART:20240331T010000
END:DAYLIGHT
BEGIN:STANDARD
TZOFFSETFROM:+0100
TZOFFSETTO:+0000
TZNAME:GMT
DTSTART:20241027T010000
END:STANDARD
BEGIN:DAYLIGHT
TZOFFSETFROM:+0000
TZOFFSETTO:+0100
TZNAME:BST
DTSTART:20250330T010000
END:DAYLIGHT
BEGIN:STANDARD
TZOFFSETFROM:+0100
TZOFFSETTO:+0000
TZNAME:GMT
DTSTART:20251026T010000
END:STANDARD
BEGIN:DAYLIGHT
TZOFFSETFROM:+0000
TZOFFSETTO:+0100
TZNAME:BST
DTSTART:20260329T010000
END:DAYLIGHT
BEGIN:STANDARD
TZOFFSETFROM:+0100
TZOFFSETTO:+0000
TZNAME:GMT
DTSTART:20261025T010000
END:STANDARD
END:VTIMEZONE
BEGIN:VEVENT
DTSTART;TZID=Europe/London:20250607T150000
DTEND;TZID=Europe/London:20250607T153000
DTSTAMP:20260422T235100
CREATED:20250204T185440Z
LAST-MODIFIED:20250302T204200Z
UID:5346-1749308400-1749310200@stalbansdef.org.uk
SUMMARY:AGM 2025
DESCRIPTION:A business meeting for the members. Papers will be shared in advance with members.
URL:https://stalbansdef.org.uk/event/agm-2025/
LOCATION:Christchurch Bushmead\, Christchurch Bushmead\, Hancock Drive\, Luton\, LU2 7SF\, United Kingdom
CATEGORIES:AGM
ATTACH;FMTTYPE=image/png:https://stalbansdef.org.uk/wp-content/uploads/2023/06/meeting-g4ab907f79_1280.png
END:VEVENT
END:VCALENDAR