BEGIN:VCALENDAR
VERSION:2.0
PRODID:-//St Albans Diocesan Evangelical Fellowship - ECPv6.15.20//NONSGML v1.0//EN
CALSCALE:GREGORIAN
METHOD:PUBLISH
X-WR-CALNAME:St Albans Diocesan Evangelical Fellowship
X-ORIGINAL-URL:https://stalbansdef.org.uk
X-WR-CALDESC:Events for St Albans Diocesan Evangelical Fellowship
REFRESH-INTERVAL;VALUE=DURATION:PT1H
X-Robots-Tag:noindex
X-PUBLISHED-TTL:PT1H
BEGIN:VTIMEZONE
TZID:Europe/London
BEGIN:DAYLIGHT
TZOFFSETFROM:+0000
TZOFFSETTO:+0100
TZNAME:BST
DTSTART:20220327T010000
END:DAYLIGHT
BEGIN:STANDARD
TZOFFSETFROM:+0100
TZOFFSETTO:+0000
TZNAME:GMT
DTSTART:20221030T010000
END:STANDARD
BEGIN:DAYLIGHT
TZOFFSETFROM:+0000
TZOFFSETTO:+0100
TZNAME:BST
DTSTART:20230326T010000
END:DAYLIGHT
BEGIN:STANDARD
TZOFFSETFROM:+0100
TZOFFSETTO:+0000
TZNAME:GMT
DTSTART:20231029T010000
END:STANDARD
BEGIN:DAYLIGHT
TZOFFSETFROM:+0000
TZOFFSETTO:+0100
TZNAME:BST
DTSTART:20240331T010000
END:DAYLIGHT
BEGIN:STANDARD
TZOFFSETFROM:+0100
TZOFFSETTO:+0000
TZNAME:GMT
DTSTART:20241027T010000
END:STANDARD
BEGIN:DAYLIGHT
TZOFFSETFROM:+0000
TZOFFSETTO:+0100
TZNAME:BST
DTSTART:20250330T010000
END:DAYLIGHT
BEGIN:STANDARD
TZOFFSETFROM:+0100
TZOFFSETTO:+0000
TZNAME:GMT
DTSTART:20251026T010000
END:STANDARD
BEGIN:DAYLIGHT
TZOFFSETFROM:+0000
TZOFFSETTO:+0100
TZNAME:BST
DTSTART:20260329T010000
END:DAYLIGHT
BEGIN:STANDARD
TZOFFSETFROM:+0100
TZOFFSETTO:+0000
TZNAME:GMT
DTSTART:20261025T010000
END:STANDARD
BEGIN:DAYLIGHT
TZOFFSETFROM:+0000
TZOFFSETTO:+0100
TZNAME:BST
DTSTART:20270328T010000
END:DAYLIGHT
BEGIN:STANDARD
TZOFFSETFROM:+0100
TZOFFSETTO:+0000
TZNAME:GMT
DTSTART:20271031T010000
END:STANDARD
END:VTIMEZONE
BEGIN:VEVENT
DTSTART;TZID=Europe/London:20260319T123000
DTEND;TZID=Europe/London:20260319T140000
DTSTAMP:20260420T082831
CREATED:20260107T151218Z
LAST-MODIFIED:20260107T151305Z
UID:5543-1773923400-1773928800@stalbansdef.org.uk
SUMMARY:Committee Meeting
DESCRIPTION:
URL:https://stalbansdef.org.uk/event/committee-meeting-10/
LOCATION:Brew and Cru\, 69-71 High Street\, Harpenden\, England\, AL5 2SL\, United Kingdom
CATEGORIES:Committee
ATTACH;FMTTYPE=image/png:https://stalbansdef.org.uk/wp-content/uploads/2023/06/meeting-gde6136200_1280.png
END:VEVENT
BEGIN:VEVENT
DTSTART;TZID=Europe/London:20260107T133000
DTEND;TZID=Europe/London:20260107T150000
DTSTAMP:20260420T082831
CREATED:20260107T151115Z
LAST-MODIFIED:20260107T151115Z
UID:5541-1767792600-1767798000@stalbansdef.org.uk
SUMMARY:Committee Meeting
DESCRIPTION:
URL:https://stalbansdef.org.uk/event/committee-meeting-9/
LOCATION:Virtual
CATEGORIES:Committee
ATTACH;FMTTYPE=image/png:https://stalbansdef.org.uk/wp-content/uploads/2023/06/meeting-gde6136200_1280.png
END:VEVENT
BEGIN:VEVENT
DTSTART;TZID=Europe/London:20251110T130000
DTEND;TZID=Europe/London:20251110T143000
DTSTAMP:20260420T082831
CREATED:20251001T111327Z
LAST-MODIFIED:20251001T111327Z
UID:5481-1762779600-1762785000@stalbansdef.org.uk
SUMMARY:Committee Meeting
DESCRIPTION:
URL:https://stalbansdef.org.uk/event/committee-meeting-8/
LOCATION:Virtual
CATEGORIES:Committee
ATTACH;FMTTYPE=image/png:https://stalbansdef.org.uk/wp-content/uploads/2023/06/meeting-gde6136200_1280.png
END:VEVENT
BEGIN:VEVENT
DTSTART;TZID=Europe/London:20250902T120000
DTEND;TZID=Europe/London:20250902T133000
DTSTAMP:20260420T082831
CREATED:20250813T083456Z
LAST-MODIFIED:20250813T083456Z
UID:5452-1756814400-1756819800@stalbansdef.org.uk
SUMMARY:Committee Meeting
DESCRIPTION:A meeting of the DEF Committee
URL:https://stalbansdef.org.uk/event/committee-meeting-7/
LOCATION:Virtual
CATEGORIES:Committee
ATTACH;FMTTYPE=image/png:https://stalbansdef.org.uk/wp-content/uploads/2023/06/meeting-gde6136200_1280.png
END:VEVENT
BEGIN:VEVENT
DTSTART;TZID=Europe/London:20250723T123000
DTEND;TZID=Europe/London:20250723T140000
DTSTAMP:20260420T082831
CREATED:20250627T223043Z
LAST-MODIFIED:20250627T223043Z
UID:5425-1753273800-1753279200@stalbansdef.org.uk
SUMMARY:Committee Meeting
DESCRIPTION:
URL:https://stalbansdef.org.uk/event/committee-meeting-6/
LOCATION:Virtual
CATEGORIES:Committee
ATTACH;FMTTYPE=image/png:https://stalbansdef.org.uk/wp-content/uploads/2023/06/meeting-gde6136200_1280.png
END:VEVENT
BEGIN:VEVENT
DTSTART;TZID=Europe/London:20240910T193000
DTEND;TZID=Europe/London:20240910T210000
DTSTAMP:20260420T082831
CREATED:20240829T093710Z
LAST-MODIFIED:20240829T093710Z
UID:5291-1725996600-1726002000@stalbansdef.org.uk
SUMMARY:Committee Meeting
DESCRIPTION:A meeting of the committee
URL:https://stalbansdef.org.uk/event/committee-meeting-5/
LOCATION:Virtual
CATEGORIES:Committee
ATTACH;FMTTYPE=image/png:https://stalbansdef.org.uk/wp-content/uploads/2023/06/meeting-g4ab907f79_1280.png
END:VEVENT
BEGIN:VEVENT
DTSTART;TZID=Europe/London:20231213T203000
DTEND;TZID=Europe/London:20231213T213000
DTSTAMP:20260420T082831
CREATED:20231214T185907Z
LAST-MODIFIED:20231214T185907Z
UID:5013-1702499400-1702503000@stalbansdef.org.uk
SUMMARY:Committee Meeting
DESCRIPTION:
URL:https://stalbansdef.org.uk/event/committee-meeting-4/
LOCATION:Virtual
CATEGORIES:Committee
ATTACH;FMTTYPE=image/png:https://stalbansdef.org.uk/wp-content/uploads/2023/06/meeting-g4ab907f79_1280.png
END:VEVENT
BEGIN:VEVENT
DTSTART;TZID=Europe/London:20231106T130000
DTEND;TZID=Europe/London:20231106T143000
DTSTAMP:20260420T082831
CREATED:20231024T081608Z
LAST-MODIFIED:20231024T081608Z
UID:4993-1699275600-1699281000@stalbansdef.org.uk
SUMMARY:Committee Meeting
DESCRIPTION:A meeting of the Committee
URL:https://stalbansdef.org.uk/event/committee-meeting-3/
LOCATION:Brew and Cru\, 69-71 High Street\, Harpenden\, England\, AL5 2SL\, United Kingdom
CATEGORIES:Committee
ATTACH;FMTTYPE=image/png:https://stalbansdef.org.uk/wp-content/uploads/2023/06/meeting-g4ab907f79_1280.png
END:VEVENT
BEGIN:VEVENT
DTSTART;TZID=Europe/London:20230706T140000
DTEND;TZID=Europe/London:20230706T150000
DTSTAMP:20260420T082831
CREATED:20230606T203043Z
LAST-MODIFIED:20230622T172826Z
UID:4857-1688652000-1688655600@stalbansdef.org.uk
SUMMARY:Committee Meeting
DESCRIPTION:
URL:https://stalbansdef.org.uk/event/committee-meeting-2/
LOCATION:Virtual
CATEGORIES:Committee
ATTACH;FMTTYPE=image/png:https://stalbansdef.org.uk/wp-content/uploads/2023/06/meeting-g4ab907f79_1280.png
END:VEVENT
BEGIN:VEVENT
DTSTART;TZID=Europe/London:20230612T130000
DTEND;TZID=Europe/London:20230612T140000
DTSTAMP:20260420T082831
CREATED:20230606T202519Z
LAST-MODIFIED:20230619T181727Z
UID:4850-1686574800-1686578400@stalbansdef.org.uk
SUMMARY:Committee Meeting
DESCRIPTION:
URL:https://stalbansdef.org.uk/event/committee-meeting/
LOCATION:Brew and Cru\, 69-71 High Street\, Harpenden\, England\, AL5 2SL\, United Kingdom
CATEGORIES:Committee
ATTACH;FMTTYPE=image/png:https://stalbansdef.org.uk/wp-content/uploads/2023/06/meeting-g4ab907f79_1280.png
END:VEVENT
END:VCALENDAR