BEGIN:VCALENDAR
VERSION:2.0
PRODID:-//St Albans Diocesan Evangelical Fellowship - ECPv6.15.20//NONSGML v1.0//EN
CALSCALE:GREGORIAN
METHOD:PUBLISH
X-ORIGINAL-URL:https://stalbansdef.org.uk
X-WR-CALDESC:Events for St Albans Diocesan Evangelical Fellowship
REFRESH-INTERVAL;VALUE=DURATION:PT1H
X-Robots-Tag:noindex
X-PUBLISHED-TTL:PT1H
BEGIN:VTIMEZONE
TZID:Europe/London
BEGIN:DAYLIGHT
TZOFFSETFROM:+0000
TZOFFSETTO:+0100
TZNAME:BST
DTSTART:20220327T010000
END:DAYLIGHT
BEGIN:STANDARD
TZOFFSETFROM:+0100
TZOFFSETTO:+0000
TZNAME:GMT
DTSTART:20221030T010000
END:STANDARD
BEGIN:DAYLIGHT
TZOFFSETFROM:+0000
TZOFFSETTO:+0100
TZNAME:BST
DTSTART:20230326T010000
END:DAYLIGHT
BEGIN:STANDARD
TZOFFSETFROM:+0100
TZOFFSETTO:+0000
TZNAME:GMT
DTSTART:20231029T010000
END:STANDARD
BEGIN:DAYLIGHT
TZOFFSETFROM:+0000
TZOFFSETTO:+0100
TZNAME:BST
DTSTART:20240331T010000
END:DAYLIGHT
BEGIN:STANDARD
TZOFFSETFROM:+0100
TZOFFSETTO:+0000
TZNAME:GMT
DTSTART:20241027T010000
END:STANDARD
BEGIN:DAYLIGHT
TZOFFSETFROM:+0000
TZOFFSETTO:+0100
TZNAME:BST
DTSTART:20250330T010000
END:DAYLIGHT
BEGIN:STANDARD
TZOFFSETFROM:+0100
TZOFFSETTO:+0000
TZNAME:GMT
DTSTART:20251026T010000
END:STANDARD
BEGIN:DAYLIGHT
TZOFFSETFROM:+0000
TZOFFSETTO:+0100
TZNAME:BST
DTSTART:20260329T010000
END:DAYLIGHT
BEGIN:STANDARD
TZOFFSETFROM:+0100
TZOFFSETTO:+0000
TZNAME:GMT
DTSTART:20261025T010000
END:STANDARD
END:VTIMEZONE
BEGIN:VEVENT
DTSTART;TZID=Europe/London:20250607T100000
DTEND;TZID=Europe/London:20250607T150000
DTSTAMP:20260420T082951
CREATED:20250204T185227Z
LAST-MODIFIED:20250608T201614Z
UID:5344-1749290400-1749308400@stalbansdef.org.uk
SUMMARY:Annual Conference 2025
DESCRIPTION:We are delighted to welcome Rt Revd Julian Henderson to speak this year. \nRegistration is from 10:00am (with refreshments)\, and our programme starts with worship at 10:30am. \nA light lunch is included in the ticket price – please contact us if you have any specific dietary requirements. \nTicket sales closed \nWe would like to take photographs for future publicity (including online).  If you would like us NOT to take or use photographs of you\, please let us know. \n 
URL:https://stalbansdef.org.uk/event/annual-conference-2025/
LOCATION:Christchurch Bushmead\, Christchurch Bushmead\, Hancock Drive\, Luton\, LU2 7SF\, United Kingdom
CATEGORIES:Conference
ATTACH;FMTTYPE=image/png:https://stalbansdef.org.uk/wp-content/uploads/2025/03/Take-Courage-1280x628-1.png
END:VEVENT
BEGIN:VEVENT
DTSTART;TZID=Europe/London:20240514T100000
DTEND;TZID=Europe/London:20240514T150000
DTSTAMP:20260420T082951
CREATED:20230606T210258Z
LAST-MODIFIED:20240322T124028Z
UID:4869-1715680800-1715698800@stalbansdef.org.uk
SUMMARY:Annual Conference 2024
DESCRIPTION:We’re pleased to welcome Revd Dr Paul Blackham to inspire us afresh about our Lord Jesus Christ. \nFull information is on the blog\, here. \nConference programme starts at 10:30am. Refreshments from 10am.
URL:https://stalbansdef.org.uk/event/annual-conference-2024/
LOCATION:Christchurch Bushmead\, Christchurch Bushmead\, Hancock Drive\, Luton\, LU2 7SF\, United Kingdom
CATEGORIES:Conference
ATTACH;FMTTYPE=image/png:https://stalbansdef.org.uk/wp-content/uploads/2024/03/The-Glory-of-Christ-Eventbrite.png
END:VEVENT
BEGIN:VEVENT
DTSTART;TZID=Europe/London:20230516T100000
DTEND;TZID=Europe/London:20230516T150000
DTSTAMP:20260420T082951
CREATED:20230606T204615Z
LAST-MODIFIED:20230619T181458Z
UID:4863-1684231200-1684249200@stalbansdef.org.uk
SUMMARY:Growth Matters
DESCRIPTION:Our Annual Conference this year.  See details here.
URL:https://stalbansdef.org.uk/event/growth-matters/
LOCATION:Christchurch Bushmead\, Christchurch Bushmead\, Hancock Drive\, Luton\, LU2 7SF\, United Kingdom
CATEGORIES:Conference
ATTACH;FMTTYPE=image/png:https://stalbansdef.org.uk/wp-content/uploads/2023/05/Growth-Matters.png
END:VEVENT
END:VCALENDAR