BEGIN:VCALENDAR
VERSION:2.0
PRODID:-//St Albans Diocesan Evangelical Fellowship - ECPv6.15.20//NONSGML v1.0//EN
CALSCALE:GREGORIAN
METHOD:PUBLISH
X-ORIGINAL-URL:https://stalbansdef.org.uk
X-WR-CALDESC:Events for St Albans Diocesan Evangelical Fellowship
REFRESH-INTERVAL;VALUE=DURATION:PT1H
X-Robots-Tag:noindex
X-PUBLISHED-TTL:PT1H
BEGIN:VTIMEZONE
TZID:Europe/London
BEGIN:DAYLIGHT
TZOFFSETFROM:+0000
TZOFFSETTO:+0100
TZNAME:BST
DTSTART:20240331T010000
END:DAYLIGHT
BEGIN:STANDARD
TZOFFSETFROM:+0100
TZOFFSETTO:+0000
TZNAME:GMT
DTSTART:20241027T010000
END:STANDARD
BEGIN:DAYLIGHT
TZOFFSETFROM:+0000
TZOFFSETTO:+0100
TZNAME:BST
DTSTART:20250330T010000
END:DAYLIGHT
BEGIN:STANDARD
TZOFFSETFROM:+0100
TZOFFSETTO:+0000
TZNAME:GMT
DTSTART:20251026T010000
END:STANDARD
BEGIN:DAYLIGHT
TZOFFSETFROM:+0000
TZOFFSETTO:+0100
TZNAME:BST
DTSTART:20260329T010000
END:DAYLIGHT
BEGIN:STANDARD
TZOFFSETFROM:+0100
TZOFFSETTO:+0000
TZNAME:GMT
DTSTART:20261025T010000
END:STANDARD
END:VTIMEZONE
BEGIN:VEVENT
DTSTART;TZID=Europe/London:20250902T120000
DTEND;TZID=Europe/London:20250902T133000
DTSTAMP:20260422T133210
CREATED:20250813T083456Z
LAST-MODIFIED:20250813T083456Z
UID:5452-1756814400-1756819800@stalbansdef.org.uk
SUMMARY:Committee Meeting
DESCRIPTION:A meeting of the DEF Committee
URL:https://stalbansdef.org.uk/event/committee-meeting-7/
LOCATION:Virtual
CATEGORIES:Committee
ATTACH;FMTTYPE=image/png:https://stalbansdef.org.uk/wp-content/uploads/2023/06/meeting-gde6136200_1280.png
END:VEVENT
BEGIN:VEVENT
DTSTART;TZID=Europe/London:20250920T143000
DTEND;TZID=Europe/London:20250920T190000
DTSTAMP:20260422T133210
CREATED:20240921T224826Z
LAST-MODIFIED:20250516T082326Z
UID:5300-1758378600-1758394800@stalbansdef.org.uk
SUMMARY:Walden Bible Focus
DESCRIPTION:In association with Keswick Ministries\, Walden Bible Focus is pleased to welcome Revd Alasdair Paine\, Vicar of St Andrew the Great\, Cambridge\, so speak on “The Need of the Hour.” \nSeparate children’s programme: see flyer for more details and booking email address. \n  \n 
URL:https://stalbansdef.org.uk/event/walden-bible-focus/
LOCATION:Saffron Walden Abbey Lane Church\, Abbey Lane Church\, Abbey Ln\, Saffron Walden\, CB10 1AG\, United Kingdom
CATEGORIES:Commended 3rd Party Event
ATTACH;FMTTYPE=image/jpeg:https://stalbansdef.org.uk/wp-content/uploads/2024/09/cropped-cropped-final-version-workings-swbiblefocus-darker-top-of-book-white-background.jpg
ORGANIZER;CN="Walden Bible Focus":MAILTO:swbible.focus@gmail.com
END:VEVENT
BEGIN:VEVENT
DTSTART;TZID=Europe/London:20250926T193000
DTEND;TZID=Europe/London:20250926T210000
DTSTAMP:20260422T133210
CREATED:20250919T090511Z
LAST-MODIFIED:20250919T090603Z
UID:5463-1758915000-1758920400@stalbansdef.org.uk
SUMMARY:God\, the Bible and Everything (in 60 minutes)
DESCRIPTION:God\, the Bible\, and Everything is the ultimate one-hour comedy charge through the whole Bible!  66 books\, 12 tribes\, 2 testaments and a snake in a pear tree. \nBBC sitcom writer and stand-up theologian James Cary explains iconic stories as you’ve never heard them before. From Adam to Zadok\, it’s fast\, furious\, and laugh-out-loud funny. \nSuitable for people of all faiths or none. \nTickets just £10 from link below. \nDoor and bar open from 7pm
URL:https://stalbansdef.org.uk/event/god-the-bible-and-everything-in-60-minutes/
LOCATION:Hunsdon Village Hall\, 45 High Street. Hunsdon\, Ware\, Hertfordshire\, SG12 8NJ\, United Kingdom
CATEGORIES:Commended 3rd Party Event
ATTACH;FMTTYPE=image/png:https://stalbansdef.org.uk/wp-content/uploads/2025/09/GBE60.png
ORGANIZER;CN="Open House":MAILTO:hello@hunsdonchurch.org
END:VEVENT
BEGIN:VEVENT
DTSTART;TZID=Europe/London:20250930T193000
DTEND;TZID=Europe/London:20250930T200000
DTSTAMP:20260422T133210
CREATED:20250919T085735Z
LAST-MODIFIED:20250919T085735Z
UID:5460-1759260600-1759262400@stalbansdef.org.uk
SUMMARY:Prayer Meeting
DESCRIPTION:We meet to pray for the upcoming Diocesan Synod on 11th October \nMembers will be sent the link.
URL:https://stalbansdef.org.uk/event/prayer-meeting/
LOCATION:Virtual
CATEGORIES:Prayer
ATTACH;FMTTYPE=image/png:https://stalbansdef.org.uk/wp-content/uploads/2024/06/Let-us-pray-DEF.png
END:VEVENT
END:VCALENDAR