BEGIN:VCALENDAR
VERSION:2.0
PRODID:-//St Albans Diocesan Evangelical Fellowship - ECPv6.15.20//NONSGML v1.0//EN
CALSCALE:GREGORIAN
METHOD:PUBLISH
X-WR-CALNAME:St Albans Diocesan Evangelical Fellowship
X-ORIGINAL-URL:https://stalbansdef.org.uk
X-WR-CALDESC:Events for St Albans Diocesan Evangelical Fellowship
REFRESH-INTERVAL;VALUE=DURATION:PT1H
X-Robots-Tag:noindex
X-PUBLISHED-TTL:PT1H
BEGIN:VTIMEZONE
TZID:Europe/London
BEGIN:DAYLIGHT
TZOFFSETFROM:+0000
TZOFFSETTO:+0100
TZNAME:BST
DTSTART:20250330T010000
END:DAYLIGHT
BEGIN:STANDARD
TZOFFSETFROM:+0100
TZOFFSETTO:+0000
TZNAME:GMT
DTSTART:20251026T010000
END:STANDARD
BEGIN:DAYLIGHT
TZOFFSETFROM:+0000
TZOFFSETTO:+0100
TZNAME:BST
DTSTART:20260329T010000
END:DAYLIGHT
BEGIN:STANDARD
TZOFFSETFROM:+0100
TZOFFSETTO:+0000
TZNAME:GMT
DTSTART:20261025T010000
END:STANDARD
BEGIN:DAYLIGHT
TZOFFSETFROM:+0000
TZOFFSETTO:+0100
TZNAME:BST
DTSTART:20270328T010000
END:DAYLIGHT
BEGIN:STANDARD
TZOFFSETFROM:+0100
TZOFFSETTO:+0000
TZNAME:GMT
DTSTART:20271031T010000
END:STANDARD
END:VTIMEZONE
BEGIN:VEVENT
DTSTART;TZID=Europe/London:20260604T100000
DTEND;TZID=Europe/London:20260604T150000
DTSTAMP:20260420T070715
CREATED:20250731T000412Z
LAST-MODIFIED:20260210T152931Z
UID:5443-1780567200-1780585200@stalbansdef.org.uk
SUMMARY:Annual Conference 2026
DESCRIPTION:We are pleased to welcome The Right Reverend Esther Prior\, Bishop of Aston\, to address our Annual Conference. \nCoffee and registration from 10am.  Opening worship at 10:30am. \nSandwich lunch provided – please let us know if you have any special dietary requirements. \nCoaches at 3pm. \nTickets are just £15.  Click here to buy yours (opens in new tab).* \nWe would like to take photographs for future publicity (including online).  If you would like us NOT to take or use photographs of you\, please let us know. \n  \n* Online purchasing is being made possible by Hunsdon Church until we get our own online facility.  All proceeds will be returned to the DEF. \nN.B. You do not need a PayPal account to purchase your ticket – there is an option to pay by debit/credit card.
URL:https://stalbansdef.org.uk/event/annual-conference-2026/
LOCATION:St Paul\, Letchworth\, 179 Pixmore Way\, Letchworth\, Hertfordshire\, SG6 1QT\, United Kingdom
CATEGORIES:Conference
ATTACH;FMTTYPE=image/jpeg:https://stalbansdef.org.uk/wp-content/uploads/2025/07/In-Christ-and-With-the-Spirit.jpg
END:VEVENT
BEGIN:VEVENT
DTSTART;TZID=Europe/London:20260609T193000
DTEND;TZID=Europe/London:20260609T200000
DTSTAMP:20260420T070715
CREATED:20251209T234744Z
LAST-MODIFIED:20251209T235132Z
UID:5505-1781033400-1781035200@stalbansdef.org.uk
SUMMARY:Prayer Meeting
DESCRIPTION:Join us to pray for one of our member churches and wider issues in the diocese and nation including Diocesan Synod\, which meets on 13th June. \nMembers will be sent the link.
URL:https://stalbansdef.org.uk/event/prayer-meeting-8/
LOCATION:Virtual
CATEGORIES:Prayer
ATTACH;FMTTYPE=image/png:https://stalbansdef.org.uk/wp-content/uploads/2024/06/Let-us-pray-DEF.png
END:VEVENT
END:VCALENDAR